BEGIN:VCALENDAR
VERSION:2.0
PRODID:-//COANA 2026//EN
METHOD:PUBLISH
BEGIN:VTIMEZONE
TZID:America/Denver
BEGIN:DAYLIGHT
TZOFFSETFROM:-0700
TZOFFSETTO:-0600
DTSTART:20260308T020000
RRULE:FREQ=YEARLY;BYMONTH=3;BYDAY=2SU
TZNAME:MDT
END:DAYLIGHT
BEGIN:STANDARD
TZOFFSETFROM:-0600
TZOFFSETTO:-0700
DTSTART:20261101T020000
RRULE:FREQ=YEARLY;BYMONTH=11;BYDAY=1SU
TZNAME:MST
END:STANDARD
END:VTIMEZONE
BEGIN:VEVENT
UID:COANA2026@example.com
DTSTAMP:20260224T120000Z
DTSTART;TZID=America/Denver:20260925T140000
DTEND;TZID=America/Denver:20260927T150000
SUMMARY:COANA 2026 Annual Meeting
DESCRIPTION:Join CRNAs, SRNAs, and RNs from across Colorado for high-quality continuing education, valuable peer connection, and a program planned for AANA accreditation.
LOCATION:Hotel Clio, a Luxury Collection Hotel, Denver Cherry Creek, 150 Clayton Ln, Denver, CO 80206, United States
END:VEVENT
END:VCALENDAR